BEGIN:VCALENDAR
VERSION:2.0
PRODID:-//Aquarienfreunde Kaufbeuren e. V. - ECPv6.15.20//NONSGML v1.0//EN
CALSCALE:GREGORIAN
METHOD:PUBLISH
X-ORIGINAL-URL:https://af-kfb.de
X-WR-CALDESC:Veranstaltungen für Aquarienfreunde Kaufbeuren e. V.
REFRESH-INTERVAL;VALUE=DURATION:PT1H
X-Robots-Tag:noindex
X-PUBLISHED-TTL:PT1H
BEGIN:VTIMEZONE
TZID:Europe/Paris
BEGIN:DAYLIGHT
TZOFFSETFROM:+0100
TZOFFSETTO:+0200
TZNAME:CEST
DTSTART:20230326T010000
END:DAYLIGHT
BEGIN:STANDARD
TZOFFSETFROM:+0200
TZOFFSETTO:+0100
TZNAME:CET
DTSTART:20231029T010000
END:STANDARD
BEGIN:DAYLIGHT
TZOFFSETFROM:+0100
TZOFFSETTO:+0200
TZNAME:CEST
DTSTART:20240331T010000
END:DAYLIGHT
BEGIN:STANDARD
TZOFFSETFROM:+0200
TZOFFSETTO:+0100
TZNAME:CET
DTSTART:20241027T010000
END:STANDARD
BEGIN:DAYLIGHT
TZOFFSETFROM:+0100
TZOFFSETTO:+0200
TZNAME:CEST
DTSTART:20250330T010000
END:DAYLIGHT
BEGIN:STANDARD
TZOFFSETFROM:+0200
TZOFFSETTO:+0100
TZNAME:CET
DTSTART:20251026T010000
END:STANDARD
END:VTIMEZONE
BEGIN:VEVENT
DTSTART;TZID=Europe/Paris:20240928T090000
DTEND;TZID=Europe/Paris:20240928T180000
DTSTAMP:20260423T221737
CREATED:20240506T075254Z
LAST-MODIFIED:20240926T150511Z
UID:1384-1727514000-1727546400@af-kfb.de
SUMMARY:Fahrt ins Blaue
DESCRIPTION:Unser Vereinsausflug führt uns in diesem Jahr nach Wangen im Allgäu. Dort besuchen wir die Landesgartenschau und danach die Stadt. Der Besuch der Gartenschau wird vom Verein bezuschusst! \nTreffpunkt ist um 9:00 Uhr am Innovapark in Kaufbeuren. Von dort aus bilden wir dann Fahrgemeinschaften nach Wangen.
URL:https://af-kfb.de/event/fahrt-ins-blaue-3/
END:VEVENT
END:VCALENDAR