BEGIN:VCALENDAR
VERSION:2.0
PRODID:-//Aquarienfreunde Kaufbeuren e. V. - ECPv6.15.20//NONSGML v1.0//EN
CALSCALE:GREGORIAN
METHOD:PUBLISH
X-ORIGINAL-URL:https://af-kfb.de
X-WR-CALDESC:Veranstaltungen für Aquarienfreunde Kaufbeuren e. V.
REFRESH-INTERVAL;VALUE=DURATION:PT1H
X-Robots-Tag:noindex
X-PUBLISHED-TTL:PT1H
BEGIN:VTIMEZONE
TZID:Europe/Paris
BEGIN:DAYLIGHT
TZOFFSETFROM:+0100
TZOFFSETTO:+0200
TZNAME:CEST
DTSTART:20210328T010000
END:DAYLIGHT
BEGIN:STANDARD
TZOFFSETFROM:+0200
TZOFFSETTO:+0100
TZNAME:CET
DTSTART:20211031T010000
END:STANDARD
BEGIN:DAYLIGHT
TZOFFSETFROM:+0100
TZOFFSETTO:+0200
TZNAME:CEST
DTSTART:20220327T010000
END:DAYLIGHT
BEGIN:STANDARD
TZOFFSETFROM:+0200
TZOFFSETTO:+0100
TZNAME:CET
DTSTART:20221030T010000
END:STANDARD
BEGIN:DAYLIGHT
TZOFFSETFROM:+0100
TZOFFSETTO:+0200
TZNAME:CEST
DTSTART:20230326T010000
END:DAYLIGHT
BEGIN:STANDARD
TZOFFSETFROM:+0200
TZOFFSETTO:+0100
TZNAME:CET
DTSTART:20231029T010000
END:STANDARD
END:VTIMEZONE
BEGIN:VEVENT
DTSTART;TZID=Europe/Paris:20220520T190000
DTEND;TZID=Europe/Paris:20220520T190000
DTSTAMP:20260420T121309
CREATED:20220129T130440Z
LAST-MODIFIED:20220430T105907Z
UID:116-1653073200-1653073200@af-kfb.de
SUMMARY:Monatsversammlung
DESCRIPTION:”Eine Reise nach Neuseeland” \nRoland Seichter vom Fotoclub Kaufbeuren zeigt uns seinen Reisebericht. \nWir treffen uns ab 19:00 Uhr Vereinslokal Sonnenhof\, der Vortrag beginnt gegen 20:00 Uhr.
URL:https://af-kfb.de/event/monatsversammlung-5/
LOCATION:Sonnenhof Mauerstetten\, Bahnhofstraße 44\, Mauerstetten\, 87665
ATTACH;FMTTYPE=image/jpeg:https://af-kfb.de/wp-content/uploads/2022/01/mv-0122_gr.jpg
END:VEVENT
BEGIN:VEVENT
DTSTART;TZID=Europe/Paris:20220522T130000
DTEND;TZID=Europe/Paris:20220522T130000
DTSTAMP:20260420T121309
CREATED:20220129T130712Z
LAST-MODIFIED:20220212T081946Z
UID:118-1653224400-1653224400@af-kfb.de
SUMMARY:Treffen der Jugendgruppe
DESCRIPTION:Wir treffen uns ab 13:00 Uhr bei Arno in Stetten und basten Luftheber und Aquarienrückwände für unsere Aquarien.
URL:https://af-kfb.de/event/treffen-der-jugendgruppe-4/
LOCATION:Jugendleiter\, Hauptstraße 38\, Stetten\, 87778
ATTACH;FMTTYPE=image/jpeg:https://af-kfb.de/wp-content/uploads/2022/01/WhatsApp-Image-2019-02-24-at-14.25.02-e1643534270475.jpeg
END:VEVENT
BEGIN:VEVENT
DTSTART;TZID=Europe/Paris:20220526T090000
DTEND;TZID=Europe/Paris:20220526T090000
DTSTAMP:20260420T121309
CREATED:20220129T130835Z
LAST-MODIFIED:20220212T082004Z
UID:121-1653555600-1653555600@af-kfb.de
SUMMARY:Vatertagswanderung
DESCRIPTION:Auch in diesem Jahr unternehmen wir mit der ganzen Familie eine kleine Wanderung und treffen uns anschließend an der Vereinshütte zum gemütlichen Grillfest. \nWeitere Infos folgen…
URL:https://af-kfb.de/event/vatertagswanderung/
LOCATION:Hütte am Bärensee\, Bärenseestraße\, Hirschzell\, 87600
ATTACH;FMTTYPE=image/jpeg:https://af-kfb.de/wp-content/uploads/2022/01/051018_vatertag_gr-e1702829765960.jpg
END:VEVENT
END:VCALENDAR